BEGIN:VCALENDAR
VERSION:2.0
PRODID:-//AskFRED//EN
CALSCALE:GREGORIAN
METHOD:PUBLISH
BEGIN:VEVENT
DTSTAMP:20260422T043905Z
UID:49f5e64a-c0c4-4b70-a77f-7c6cdaf65648
DTSTART;VALUE=DATE:20260425
DTEND;VALUE=DATE:20260425
DESCRIPTION:Syracuse University Fencing Club invites you to attend our Spri
 ng Open tournament\, an UNSANCTIONED general event for all levels of exper
 ience. Entry fee is $15 for first weapon\, and $5 additional.
GEO:43.03517720000001;-76.1300164
LOCATION:820 Comstock Ave\, Syracuse\, NY 13210 US
SUMMARY:Syracuse University 2026 Spring Open
BEGIN:VALARM
ACTION:DISPLAY
TRIGGER:-P1D
DESCRIPTION:Reminder
END:VALARM
END:VEVENT
END:VCALENDAR
