BEGIN:VCALENDAR
VERSION:2.0
PRODID:-//AskFRED//EN
CALSCALE:GREGORIAN
METHOD:PUBLISH
BEGIN:VEVENT
DTSTAMP:20260422T082029Z
UID:0b3c43d0-2d64-48c7-9b62-21c3cc2dd4eb
DTSTART;VALUE=DATE:20260731
DTEND;VALUE=DATE:20260731
DESCRIPTION:Friday Night Sabre E and Under 
GEO:40.8413145;-74.8216885
LOCATION:112 East Ave. Unit 9\, Hackettstown\, NJ 07840 US
SUMMARY:Valhalla Fencing Club Friday Night Sabre E and Under
BEGIN:VALARM
ACTION:DISPLAY
TRIGGER:-P1D
DESCRIPTION:Reminder
END:VALARM
END:VEVENT
END:VCALENDAR
