BEGIN:VCALENDAR
VERSION:2.0
PRODID:-//AskFRED//EN
CALSCALE:GREGORIAN
METHOD:PUBLISH
BEGIN:VEVENT
DTSTAMP:20260422T082110Z
UID:0e36a850-d6ea-4a5b-a89f-d5b6b7478c70
DTSTART;VALUE=DATE:20260809
DTEND;VALUE=DATE:20260809
DESCRIPTION:This is our 9th Annual Open Epee event in honor of Dr. Packer! 
 We love to host this event and it is open to fencers born in 2013 or befor
 e. This event is sanctioned by USA Fencing's NJ Division.
GEO:40.2547909;-74.2470405
LOCATION:56 Thoreau Drive\, Freehold\, NJ 07728 USA
SUMMARY:9th Annual Dr. Gene Packer Open Epee @ Freehold Fencing
BEGIN:VALARM
ACTION:DISPLAY
TRIGGER:-P1D
DESCRIPTION:Reminder
END:VALARM
END:VEVENT
END:VCALENDAR
