BEGIN:VCALENDAR
VERSION:2.0
PRODID:-//AskFRED//EN
CALSCALE:GREGORIAN
METHOD:PUBLISH
BEGIN:VEVENT
DTSTAMP:20260422T082222Z
UID:5fc9bba6-9ba5-49b1-8d77-1b18d5d6c0da
DTSTART;VALUE=DATE:20260809
DTEND;VALUE=DATE:20260809
DESCRIPTION:Y14\, Y`2\, Y`0
GEO:44.9165277;-93.262832
LOCATION:4744 Chicago Ave S\, Minneapolis\, MN 55407 USA
SUMMARY:Yukon Gold  -Youth Epee
BEGIN:VALARM
ACTION:DISPLAY
TRIGGER:-P1D
DESCRIPTION:Reminder
END:VALARM
END:VEVENT
END:VCALENDAR
