BEGIN:VCALENDAR
VERSION:2.0
PRODID:-//AskFRED//EN
CALSCALE:GREGORIAN
METHOD:PUBLISH
BEGIN:VEVENT
DTSTAMP:20260422T082217Z
UID:97d84c18-71f6-4e92-bdee-f83385c5c044
DTSTART;VALUE=DATE:20260620
DTEND;VALUE=DATE:20260620
DESCRIPTION:Summer check-in for Sabre and Epee. Let's not get too out of sh
 ape!
GEO:38.9720352;-94.7360585
LOCATION:12932 W 87th St Pkwy\, Lenexa\, KS 66215 US
SUMMARY:KC Fencing Summer Games
BEGIN:VALARM
ACTION:DISPLAY
TRIGGER:-P1D
DESCRIPTION:Reminder
END:VALARM
END:VEVENT
END:VCALENDAR
