BEGIN:VCALENDAR
VERSION:2.0
PRODID:-//AskFRED//EN
CALSCALE:GREGORIAN
METHOD:PUBLISH
BEGIN:VEVENT
DTSTAMP:20260422T043840Z
UID:59ec5e1f-bea9-4477-bdb7-e836cec307ef
DTSTART;VALUE=DATE:20260422
DTEND;VALUE=DATE:20260423
DESCRIPTION:Small senior men's unrated\, senior women's unrated\, and senio
 r mixed open to say goodbye to college seniors.
GEO:32.601316;-85.49264710000001
LOCATION:601 Heisman Dr\, Auburn\, AL 36849 US
SUMMARY:Auburn Senior Send-Off
BEGIN:VALARM
ACTION:DISPLAY
TRIGGER:-P1D
DESCRIPTION:Reminder
END:VALARM
END:VEVENT
END:VCALENDAR
