BEGIN:VCALENDAR
VERSION:2.0
PRODID:-//AskFRED//EN
CALSCALE:GREGORIAN
METHOD:PUBLISH
BEGIN:VEVENT
DTSTAMP:20260422T081801Z
UID:864be467-2146-475c-bc08-495b01c7f55b
DTSTART;VALUE=DATE:20260620
DTEND;VALUE=DATE:20260621
GEO:39.00876909999999;-77.05136279999999
LOCATION:9330 Fraser Ave\, Silver Spring\, MD 20910 US
SUMMARY:Capitol Division Tune-Up Open
BEGIN:VALARM
ACTION:DISPLAY
TRIGGER:-P1D
DESCRIPTION:Reminder
END:VALARM
END:VEVENT
END:VCALENDAR
