BEGIN:VCALENDAR
VERSION:2.0
PRODID:-//AskFRED//EN
CALSCALE:GREGORIAN
METHOD:PUBLISH
BEGIN:VEVENT
DTSTAMP:20260422T044016Z
UID:90fe8406-aee7-4a4c-9f8d-76e1a97add96
DTSTART;VALUE=DATE:20260425
DTEND;VALUE=DATE:20260425
DESCRIPTION:$20+$15/additional weapon (discount for BUFC fencers who have p
 aid dues). BUFC registration deadline: 04/22/26\, all others 04/25/26. Pri
 zes to the Top 3 of each event. This is a NON-sanctioned event.
GEO:42.0916354;-75.9643846
LOCATION:East Gym\, Vestal\, NY 13850 US
SUMMARY:Binghamton University "Blooming Blade Open"
BEGIN:VALARM
ACTION:DISPLAY
TRIGGER:-P1D
DESCRIPTION:Reminder
END:VALARM
END:VEVENT
END:VCALENDAR
