BEGIN:VCALENDAR
VERSION:2.0
PRODID:-//AskFRED//EN
CALSCALE:GREGORIAN
METHOD:PUBLISH
BEGIN:VEVENT
DTSTAMP:20260424T190410Z
UID:a4db5459-f8a0-486a-9d5d-b8a5700a9303
DTSTART;VALUE=DATE:20230226
DTEND;VALUE=DATE:20230226
DESCRIPTION:A great local tournament to prepare beginner and intermediate f
 encers for future regional and national Events and good practice for more 
 experienced fencers. Y-10 and Y-14 events only.
GEO:40.790798;-73.973315
LOCATION:210 W. 91st Street\, New York\, NY 10024 USA
SUMMARY:Morehouse Youth Saber Cup Series #5 (Manhattan)
BEGIN:VALARM
ACTION:DISPLAY
TRIGGER:-P1D
DESCRIPTION:Reminder
END:VALARM
END:VEVENT
END:VCALENDAR
