BEGIN:VCALENDAR
VERSION:2.0
PRODID:-//AskFRED//EN
CALSCALE:GREGORIAN
METHOD:PUBLISH
BEGIN:VEVENT
DTSTAMP:20260423T224319Z
UID:8def3c81-b63b-4399-a9ca-ac48139dbb16
DTSTART;VALUE=DATE:20150201
DTEND;VALUE=DATE:20150201
GEO:37.806767;-122.2758646
LOCATION:1429 MLK Jr. Way\, Oakland\, CA 94612 USA
SUMMARY:Bay Cup at EBFG:  CLWE1\, UWE1\, WE4
BEGIN:VALARM
ACTION:DISPLAY
TRIGGER:-P1D
DESCRIPTION:Reminder
END:VALARM
END:VEVENT
END:VCALENDAR
