BEGIN:VCALENDAR
VERSION:2.0
PRODID:-//AskFRED//EN
CALSCALE:GREGORIAN
METHOD:PUBLISH
BEGIN:VEVENT
DTSTAMP:20260422T081849Z
UID:98e20d98-03f4-4b2b-8184-3fd135d8756e
DTSTART;VALUE=DATE:20260801
DTEND;VALUE=DATE:20260801
DESCRIPTION:Join us for a 21+ fencing event followed by an optional social 
 with alcoholic beverages. Registration is $35 plus a potluck dish or snack
  to share.
GEO:47.6869214;-122.134111
LOCATION:15362 NE 96th Pl\, Redmond\, WA 98052 US
SUMMARY:Summer Swords and Spirits
BEGIN:VALARM
ACTION:DISPLAY
TRIGGER:-P1D
DESCRIPTION:Reminder
END:VALARM
END:VEVENT
END:VCALENDAR
