BEGIN:VCALENDAR
VERSION:2.0
PRODID:-//AskFRED//EN
CALSCALE:GREGORIAN
METHOD:PUBLISH
BEGIN:VEVENT
DTSTAMP:20260422T082034Z
UID:a321378e-7ed9-4e08-8d7c-738f17c8f51c
DTSTART;VALUE=DATE:20260619
DTEND;VALUE=DATE:20260619
DESCRIPTION:Youth Sabre and Open Fencing Tournament. Full electric/competit
 ive sabre equipment and USA Fencing Membership is required for this event.
GEO:40.9958994;-74.11030769999999
LOCATION:597 N Maple Ave\, Ridgewood\, NJ 07450 US
SUMMARY:Durkan Sabre Youth Cup #4 and Open Sabre
BEGIN:VALARM
ACTION:DISPLAY
TRIGGER:-P1D
DESCRIPTION:Reminder
END:VALARM
END:VEVENT
END:VCALENDAR
