BEGIN:VCALENDAR
VERSION:2.0
PRODID:-//AskFRED//EN
CALSCALE:GREGORIAN
METHOD:PUBLISH
BEGIN:VEVENT
DTSTAMP:20260422T082307Z
UID:99e5a9cc-51d3-4cba-acf2-0e8d3200db31
DTSTART;VALUE=DATE:20260802
DTEND;VALUE=DATE:20260802
DESCRIPTION:Please renew your USA Fencing membership before attending! Plea
 se check the birth year requirements since it is a new season starting on 
 8/1!
GEO:40.2547909;-74.2470405
LOCATION:56 Thoreau Dr\, Freehold\, NJ 07728 US
SUMMARY:Freehold Fencing - August Youth Foil & Epee
BEGIN:VALARM
ACTION:DISPLAY
TRIGGER:-P1D
DESCRIPTION:Reminder
END:VALARM
END:VEVENT
END:VCALENDAR
