BEGIN:VCALENDAR
VERSION:2.0
PRODID:-//AskFRED//EN
CALSCALE:GREGORIAN
METHOD:PUBLISH
BEGIN:VEVENT
DTSTAMP:20260421T102907Z
UID:e09b7391-ffec-409a-8eec-abaa92a6b3eb
DTSTART;VALUE=DATE:20260426
DTEND;VALUE=DATE:20260426
DESCRIPTION:Y-14 / Div 2 / Div 3 qualifier for Summer Nationals in Portland
 \, OR June 27 - July 6. All participants MUST preregister on AskFred. No w
 alk-ons allowed. Pre-registration closes on April 19. 
GEO:39.9611515;-76.735586
LOCATION:90 N Newberry St\, York\, PA 17401 USA
SUMMARY:Harrisburg Division National Qualifiers
BEGIN:VALARM
ACTION:DISPLAY
TRIGGER:-P1D
DESCRIPTION:Reminder
END:VALARM
END:VEVENT
END:VCALENDAR
