BEGIN:VCALENDAR
VERSION:2.0
PRODID:-//AskFRED//EN
CALSCALE:GREGORIAN
METHOD:PUBLISH
BEGIN:VEVENT
DTSTAMP:20260422T082354Z
UID:55232979-5312-4934-9b59-f87167cedc77
DTSTART;VALUE=DATE:20260723
DTEND;VALUE=DATE:20260723
GEO:40.7197068;-74.2705849
LOCATION:229 Hilton Ave\, Maplewood\, NJ 07040 USA
SUMMARY:NJFA - Div. 3 Mixed Sabre
BEGIN:VALARM
ACTION:DISPLAY
TRIGGER:-P1D
DESCRIPTION:Reminder
END:VALARM
END:VEVENT
END:VCALENDAR
