BEGIN:VCALENDAR
VERSION:2.0
PRODID:-//AskFRED//EN
CALSCALE:GREGORIAN
METHOD:PUBLISH
BEGIN:VEVENT
DTSTAMP:20260422T081858Z
UID:266fb702-729f-4cfe-8924-0a71d3a11d4f
DTSTART;VALUE=DATE:20260717
DTEND;VALUE=DATE:20260717
GEO:40.03951559999999;-86.00295009999999
LOCATION:1706 Pleasant St\, Noblesville\, IN 46060 US
SUMMARY:July Friday Night Fencing
BEGIN:VALARM
ACTION:DISPLAY
TRIGGER:-P1D
DESCRIPTION:Reminder
END:VALARM
END:VEVENT
END:VCALENDAR
