BEGIN:VCALENDAR
VERSION:2.0
PRODID:-//AskFRED//EN
CALSCALE:GREGORIAN
METHOD:PUBLISH
BEGIN:VEVENT
DTSTAMP:20260422T081911Z
UID:09bfa52e-73d7-45f5-ac8d-dc2dbf2117a1
DTSTART;VALUE=DATE:20260718
DTEND;VALUE=DATE:20260718
GEO:40.7641809;-73.80868819999999
LOCATION:156-13 Northern Blvd\, Queens\, NY 11354 US
SUMMARY:'26 Season Opener (Queens Fencing Club Open foil/epee/saber)
BEGIN:VALARM
ACTION:DISPLAY
TRIGGER:-P1D
DESCRIPTION:Reminder
END:VALARM
END:VEVENT
END:VCALENDAR
