BEGIN:VCALENDAR
VERSION:2.0
PRODID:-//AskFRED//EN
CALSCALE:GREGORIAN
METHOD:PUBLISH
BEGIN:VEVENT
DTSTAMP:20260421T061950Z
UID:7961aaa1-6980-41a7-8a57-416dba3ea741
DTSTART;VALUE=DATE:20191011
DTEND;VALUE=DATE:20191011
DESCRIPTION:Div2 Mixed Epee start at 6:00 pm. This event is sanctioned by t
 he USFA's NJ Division. You must be born in 2006 or earlier to fence in thi
 s event.
GEO:40.2547909;-74.2470405
LOCATION:56 Thoreau Drive\, Freehold\, NJ 07728 USA
SUMMARY:Freehold Fencing's Div II Epee
BEGIN:VALARM
ACTION:DISPLAY
TRIGGER:-P1D
DESCRIPTION:Reminder
END:VALARM
END:VEVENT
END:VCALENDAR
