BEGIN:VCALENDAR
VERSION:2.0
PRODID:-//AskFRED//EN
CALSCALE:GREGORIAN
METHOD:PUBLISH
BEGIN:VEVENT
DTSTAMP:20260422T082302Z
UID:002435e3-bd98-435d-ae0a-f4891be4ca85
DTSTART;VALUE=DATE:20260621
DTEND;VALUE=DATE:20260621
DESCRIPTION:You provide the fencing\, we provide the ice cream... Take adva
 ntage of this opportunity to gear up yourself for the SN!\nSign up early a
 nd pay online before 6/20 for our cheapest event rate!\n
GEO:40.5726375;-74.5609988
LOCATION:3E Chimney Rock Rd\, Unit B\, Bound Brook\, NJ 08805 US
SUMMARY:Escrime For Ice Cream EPEE OPEN at Medeo
BEGIN:VALARM
ACTION:DISPLAY
TRIGGER:-P1D
DESCRIPTION:Reminder
END:VALARM
END:VEVENT
END:VCALENDAR
