BEGIN:VCALENDAR
VERSION:2.0
PRODID:-//AskFRED//EN
CALSCALE:GREGORIAN
METHOD:PUBLISH
BEGIN:VEVENT
DTSTAMP:20260424T024550Z
UID:5e71bb98-e8e1-462e-940c-006e1035088a
DTSTART;VALUE=DATE:20190921
DTEND;VALUE=DATE:20190921
GEO:28.0606574;-82.4076614
LOCATION:12301 USF Maple Drive\, Tampa\, FL 33612 USA
SUMMARY:USF 8th Annual Oktoberfence
BEGIN:VALARM
ACTION:DISPLAY
TRIGGER:-P1D
DESCRIPTION:Reminder
END:VALARM
END:VEVENT
END:VCALENDAR
