BEGIN:VCALENDAR
VERSION:2.0
PRODID:-//AskFRED//EN
CALSCALE:GREGORIAN
METHOD:PUBLISH
BEGIN:VEVENT
DTSTAMP:20260422T081902Z
UID:c59b514a-0fc5-483a-b5a3-6cf88ff9e27f
DTSTART;VALUE=DATE:20260728
DTEND;VALUE=DATE:20260728
GEO:40.7197068;-74.2705849
LOCATION:229 Hilton Ave\, Maplewood\, NJ 07040 USA
SUMMARY:NJFA - Div. 3 Mixed Epee
BEGIN:VALARM
ACTION:DISPLAY
TRIGGER:-P1D
DESCRIPTION:Reminder
END:VALARM
END:VEVENT
END:VCALENDAR
