BEGIN:VCALENDAR
VERSION:2.0
PRODID:-//AskFRED//EN
CALSCALE:GREGORIAN
METHOD:PUBLISH
BEGIN:VEVENT
DTSTAMP:20260422T044256Z
UID:2e472778-fa9c-47e4-b419-df6f1065a799
DTSTART;VALUE=DATE:20260424
DTEND;VALUE=DATE:20260424
DESCRIPTION:UNSANCTIONED Senior Mixed Saber 
GEO:37.4134496;-122.0717157
LOCATION:1080 La Avenida St\, Mountain View\, CA 94043 US
SUMMARY:Friday Night Fencing Senior Mixed Saber
BEGIN:VALARM
ACTION:DISPLAY
TRIGGER:-P1D
DESCRIPTION:Reminder
END:VALARM
END:VEVENT
END:VCALENDAR
