BEGIN:VCALENDAR
VERSION:2.0
PRODID:-//AskFRED//EN
CALSCALE:GREGORIAN
METHOD:PUBLISH
BEGIN:VEVENT
DTSTAMP:20260420T161837Z
UID:2aa0155a-15ad-4eb7-a53c-15b748122751
DTSTART;VALUE=DATE:20161120
DTEND;VALUE=DATE:20161120
DESCRIPTION:This year Turkeys will be donated to a food pantry.\n\nEntry fe
 e is $30 for those who pre-register.  $35 at the door.\n$10 extra for each
  multiple events.\n.
GEO:43.0014442;-88.2199469
LOCATION:601 E. College Ave.\, Waukesha\, WI 53186 USA
SUMMARY:Turkey Meet Open
BEGIN:VALARM
ACTION:DISPLAY
TRIGGER:-P1D
DESCRIPTION:Reminder
END:VALARM
END:VEVENT
END:VCALENDAR
