BEGIN:VCALENDAR
VERSION:2.0
PRODID:-//AskFRED//EN
CALSCALE:GREGORIAN
METHOD:PUBLISH
BEGIN:VEVENT
DTSTAMP:20260422T082020Z
UID:7626693d-6086-406e-ab81-6e8f23bc386b
DTSTART;VALUE=DATE:20260627
DTEND;VALUE=DATE:20260627
DESCRIPTION:Saturday Foil and Epee Division 2 and Division 3 Event
GEO:40.8413145;-74.8216885
LOCATION:112 East Ave. Unit 9\, Hackettstown\, NJ 07840 US
SUMMARY:Valhalla Fencing Club Epee/Foil Div 2 and Div 3
BEGIN:VALARM
ACTION:DISPLAY
TRIGGER:-P1D
DESCRIPTION:Reminder
END:VALARM
END:VEVENT
END:VCALENDAR
