BEGIN:VCALENDAR
VERSION:2.0
PRODID:-//AskFRED//EN
CALSCALE:GREGORIAN
METHOD:PUBLISH
BEGIN:VEVENT
DTSTAMP:20260422T044717Z
UID:1cb24427-c7b9-4250-8fe4-46550a62a571
DTSTART;VALUE=DATE:20260425
DTEND;VALUE=DATE:20260425
GEO:38.9283127;-94.6620691
LOCATION:6600 College Blvd\, Overland Park\, KS 66211 US
SUMMARY:2026 Kansas Division Summer Nationals Qualifier
BEGIN:VALARM
ACTION:DISPLAY
TRIGGER:-P1D
DESCRIPTION:Reminder
END:VALARM
END:VEVENT
END:VCALENDAR
