BEGIN:VCALENDAR
VERSION:2.0
PRODID:-//AskFRED//EN
CALSCALE:GREGORIAN
METHOD:PUBLISH
BEGIN:VEVENT
DTSTAMP:20260421T081807Z
UID:5b98d342-58de-46dd-9058-2b479bfc623d
DTSTART;VALUE=DATE:20191115
DTEND;VALUE=DATE:20191115
DESCRIPTION:Epee only Open unsanctioned Friday Knight Fight.  Our goal is t
 o have fun\, make friends\, fence hard\, and then fun food and drinks.
GEO:38.8491463;-77.1230783
LOCATION:3505 Carlin Springs Rd\, Bailey's Crossroads\, VA 22041 US
SUMMARY:Friday Knight Fights Epee
BEGIN:VALARM
ACTION:DISPLAY
TRIGGER:-P1D
DESCRIPTION:Reminder
END:VALARM
END:VEVENT
END:VCALENDAR
