BEGIN:VCALENDAR
VERSION:2.0
PRODID:-//AskFRED//EN
CALSCALE:GREGORIAN
METHOD:PUBLISH
BEGIN:VEVENT
DTSTAMP:20260422T082515Z
UID:c41c38c5-4406-489c-ac0b-3f0dbd6bd978
DTSTART;VALUE=DATE:20260809
DTEND;VALUE=DATE:20260809
GEO:40.4117645;-74.4222478
LOCATION:The Fields Sports Complex\, 8 Cornwall Court\, East Brunswick\, NJ
  08816 US
SUMMARY:Escrimeur Youth\, Senior\, Veteran Sabre Cup 2026-2027 (1)
BEGIN:VALARM
ACTION:DISPLAY
TRIGGER:-P1D
DESCRIPTION:Reminder
END:VALARM
END:VEVENT
END:VCALENDAR
