BEGIN:VCALENDAR
VERSION:2.0
PRODID:-//AskFRED//EN
CALSCALE:GREGORIAN
METHOD:PUBLISH
BEGIN:VEVENT
DTSTAMP:20260419T225335Z
UID:4e400c16-5d7c-47e6-a030-08dda5f02d49
DTSTART;VALUE=DATE:20220515
DTEND;VALUE=DATE:20220515
DESCRIPTION:USFA Sanctioned\, ratings possible with 6 fencers or more in th
 e event. Check-in closes at 9:30 am\nFee: $40\nFace masks optional\, hand 
 sanitizers available
GEO:39.1199822;-77.1882071
LOCATION:16021 Industrial Drive\, Suite # 3\, Gaithersburg\, MD 20877 USA
SUMMARY:Unrated Senior Mixed Foil
BEGIN:VALARM
ACTION:DISPLAY
TRIGGER:-P1D
DESCRIPTION:Reminder
END:VALARM
END:VEVENT
END:VCALENDAR
