BEGIN:VCALENDAR
VERSION:2.0
PRODID:-//AskFRED//EN
CALSCALE:GREGORIAN
METHOD:PUBLISH
BEGIN:VEVENT
DTSTAMP:20260422T082213Z
UID:5cd9ade0-1486-4359-bedd-18909a77978e
DTSTART;VALUE=DATE:20260814
DTEND;VALUE=DATE:20260814
DESCRIPTION:Friday night Epee E and Under 
GEO:40.8413145;-74.8216885
LOCATION:112 East Ave. Unit 9\, Hackettstown\, NJ 07840 US
SUMMARY:Valhalla Fencing Club Friday Night Epee E and Under
BEGIN:VALARM
ACTION:DISPLAY
TRIGGER:-P1D
DESCRIPTION:Reminder
END:VALARM
END:VEVENT
END:VCALENDAR
