BEGIN:VCALENDAR
VERSION:2.0
PRODID:-//AskFRED//EN
CALSCALE:GREGORIAN
METHOD:PUBLISH
BEGIN:VEVENT
DTSTAMP:20260422T064303Z
UID:759123cb-0f12-49ea-98a6-97f8010defc8
DTSTART;VALUE=DATE:20261003
DTEND;VALUE=DATE:20261004
DESCRIPTION:The Ohio State University Fencing Team welcomes you to the 2026
  OSU Open. GO BUCKS!!  Fee for those pre-registered by 9/19\, $60\, all ot
 hers from 9/20\, including walk ins\, $75.  Awards to the 8! 
GEO:40.0053826;-83.0204066
LOCATION:460 Woody Hayes Dr\, Columbus\, OH 43210 US
SUMMARY:The Ohio State University Open
BEGIN:VALARM
ACTION:DISPLAY
TRIGGER:-P1D
DESCRIPTION:Reminder
END:VALARM
END:VEVENT
END:VCALENDAR
