BEGIN:VCALENDAR
VERSION:2.0
PRODID:-//AskFRED//EN
CALSCALE:GREGORIAN
METHOD:PUBLISH
BEGIN:VEVENT
DTSTAMP:20260422T081718Z
UID:e05d72a9-256c-4f6b-b414-c9c7977c3be1
DTSTART;VALUE=DATE:20260731
DTEND;VALUE=DATE:20260731
DESCRIPTION:Epee events will start at 6 pm & Sabre events will start at 7 p
 m. This event is sanctioned by the USFA's NJ Division and is open for thos
 e born in 2012 or before.
GEO:40.2547909;-74.2470405
LOCATION:56 Thoreau Dr\, Freehold\, NJ 07728 US
SUMMARY:Freehold Fencing - Unrated Epee & Sabre
BEGIN:VALARM
ACTION:DISPLAY
TRIGGER:-P1D
DESCRIPTION:Reminder
END:VALARM
END:VEVENT
END:VCALENDAR
