BEGIN:VCALENDAR
VERSION:2.0
PRODID:-//AskFRED//EN
CALSCALE:GREGORIAN
METHOD:PUBLISH
BEGIN:VEVENT
DTSTAMP:20260422T044113Z
UID:54993404-4854-4990-8d04-c07f829f6c7a
DTSTART;VALUE=DATE:20260425
DTEND;VALUE=DATE:20260425
DESCRIPTION:Our last tournament for the year\, this is an in house event\, 
 but we will be holding more in the fall!
GEO:45.5215034;-123.1097532
LOCATION:2043 College Way\, Forest Grove\, OR 97116 US
SUMMARY:Pacific University IN HOUSE "This is all Tenzin's fault" tournament
  series #3 - End of year tournament!
BEGIN:VALARM
ACTION:DISPLAY
TRIGGER:-P1D
DESCRIPTION:Reminder
END:VALARM
END:VEVENT
END:VCALENDAR
