BEGIN:VCALENDAR
VERSION:2.0
PRODID:-//AskFRED//EN
CALSCALE:GREGORIAN
METHOD:PUBLISH
BEGIN:VEVENT
DTSTAMP:20260422T074646Z
UID:f51d1e28-81cf-4db3-b387-f1461d794e69
DTSTART;VALUE=DATE:20191214
DTEND;VALUE=DATE:20191214
DESCRIPTION:Please join us for the AIC Saturday Night events. The cost is $
 30 if preregistered.  $40 if paid at the door. Cash or check to "AIC Fenci
 ng".
GEO:38.9930378;-77.4226544
LOCATION:1333 Shepard Rd\, Ste G\,\, Sterling\, VA 20164 US
SUMMARY:AIC Saturday Night Epee
BEGIN:VALARM
ACTION:DISPLAY
TRIGGER:-P1D
DESCRIPTION:Reminder
END:VALARM
END:VEVENT
END:VCALENDAR
