BEGIN:VCALENDAR
VERSION:2.0
PRODID:-//AskFRED//EN
CALSCALE:GREGORIAN
METHOD:PUBLISH
BEGIN:VEVENT
DTSTAMP:20260422T082230Z
UID:bab88063-fae4-4c23-80c2-2fa788cd2421
DTSTART;VALUE=DATE:20260814
DTEND;VALUE=DATE:20260814
DESCRIPTION:Men's & Women's Epee will both start at 6 pm. This event is san
 ctioned by USA Fencing's NJ Division\, and is open to fencers born in 2013
  or before.
GEO:40.2547909;-74.2470405
LOCATION:56 Thoreau Dr\, Freehold\, NJ 07728 US
SUMMARY:Freehold Fencing - August Unrated Epee
BEGIN:VALARM
ACTION:DISPLAY
TRIGGER:-P1D
DESCRIPTION:Reminder
END:VALARM
END:VEVENT
END:VCALENDAR
