BEGIN:VCALENDAR
VERSION:2.0
PRODID:-//AskFRED//EN
CALSCALE:GREGORIAN
METHOD:PUBLISH
BEGIN:VEVENT
DTSTAMP:20260422T081903Z
UID:3dcbc5e9-037e-4b0e-94ad-9170a0e4f4eb
DTSTART;VALUE=DATE:20260807
DTEND;VALUE=DATE:20260807
DESCRIPTION:Foil events will start at 6 pm\, Epee events will start at 7 pm
 . This event is sanctioned by USA Fencing's NJ Division and is open to fen
 cers born in 2013 or before.
GEO:40.2547909;-74.2470405
LOCATION:56 Thoreau Dr\, Freehold\, NJ 07728 US
SUMMARY:Freehold Fencing - E & U Foil/Epee
BEGIN:VALARM
ACTION:DISPLAY
TRIGGER:-P1D
DESCRIPTION:Reminder
END:VALARM
END:VEVENT
END:VCALENDAR
