BEGIN:VCALENDAR
VERSION:2.0
PRODID:-//AskFRED//EN
CALSCALE:GREGORIAN
METHOD:PUBLISH
BEGIN:VEVENT
DTSTAMP:20260421T085140Z
UID:9da1cb1f-abf0-4140-b480-1510e0a283da
DTSTART;VALUE=DATE:20191124
DTEND;VALUE=DATE:20191124
DESCRIPTION:Pre registered entry is $40 at check in\, walk-ins $50.    CASH
  ONLY. PLEASE NOTE ENTRY DEADLINE. If you have missed the deadline but wou
 ld like to fence please email the organizer to be added to the event as a 
 walk-in.
GEO:40.0975354;-75.1451207
LOCATION:827 Glenside Avenue\, Wyncote\, PA 19095 USA
SUMMARY:FAP-NORTH  Vet  Women's Foil\, Epee
BEGIN:VALARM
ACTION:DISPLAY
TRIGGER:-P1D
DESCRIPTION:Reminder
END:VALARM
END:VEVENT
END:VCALENDAR
