BEGIN:VCALENDAR
VERSION:2.0
PRODID:-//AskFRED//EN
CALSCALE:GREGORIAN
METHOD:PUBLISH
BEGIN:VEVENT
DTSTAMP:20260422T043922Z
UID:927505e5-ebab-4bda-ab12-d26ef17186f3
DTSTART;VALUE=DATE:20260425
DTEND;VALUE=DATE:20260425
DESCRIPTION:Team Epee Tournament. Registration is for headcount purposes on
 ly. 
GEO:31.6588965;-106.2932221
LOCATION:10150 Alameda Ave\, El Paso\, TX 79927 US
SUMMARY:Ballad of the Blades SHS TEAM Epee (For Registration purposes only)
BEGIN:VALARM
ACTION:DISPLAY
TRIGGER:-P1D
DESCRIPTION:Reminder
END:VALARM
END:VEVENT
END:VCALENDAR
