BEGIN:VCALENDAR
VERSION:2.0
PRODID:-//AskFRED//EN
CALSCALE:GREGORIAN
METHOD:PUBLISH
BEGIN:VEVENT
DTSTAMP:20260423T224320Z
UID:0ae2b4c4-3659-4330-a054-34783c452c3e
DTSTART;VALUE=DATE:20191116
DTEND;VALUE=DATE:20191116
DESCRIPTION:USA Fencing Sanctioned Event (Competitive USA Fencing membershi
 p Required).  Entry fee: $30\n\nEntries are limited to 36.  \n\nPlease see
  the "more info" page for information on our notification/waitlist policy 
 and exact directions to the club.
GEO:39.6067789;-75.8332718
SUMMARY:MoDuel C & Under Mixed Epee
BEGIN:VALARM
ACTION:DISPLAY
TRIGGER:-P1D
DESCRIPTION:Reminder
END:VALARM
END:VEVENT
END:VCALENDAR
