BEGIN:VCALENDAR
VERSION:2.0
PRODID:-//AskFRED//EN
CALSCALE:GREGORIAN
METHOD:PUBLISH
BEGIN:VEVENT
DTSTAMP:20260422T044509Z
UID:0c90b790-49c7-4c19-8e82-90161b7d1635
DTSTART;VALUE=DATE:20260422
DTEND;VALUE=DATE:20260422
DESCRIPTION:Unrated mens and womens sabre at Dublin Coffman High School.
GEO:40.1073435;-83.1309575
LOCATION:6780 Coffman Road\, Dublin\, Ohio 43017
SUMMARY:Dublin Earn your E Sabre
BEGIN:VALARM
ACTION:DISPLAY
TRIGGER:-P1D
DESCRIPTION:Reminder
END:VALARM
END:VEVENT
END:VCALENDAR
