BEGIN:VCALENDAR
VERSION:2.0
PRODID:-//AskFRED//EN
CALSCALE:GREGORIAN
METHOD:PUBLISH
BEGIN:VEVENT
DTSTAMP:20260422T081914Z
UID:cfe8db4c-9f5c-43a0-a9a9-803e4dc9671d
DTSTART;VALUE=DATE:20260726
DTEND;VALUE=DATE:20260726
DESCRIPTION:Sunday Epee Div 2 and Div 3 
GEO:40.8413145;-74.8216885
LOCATION:112 East Ave. Unit 9\, Hackettstown\, NJ 07840 US
SUMMARY:Valhalla Fencing Club Epee Div 2 and Div 3
BEGIN:VALARM
ACTION:DISPLAY
TRIGGER:-P1D
DESCRIPTION:Reminder
END:VALARM
END:VEVENT
END:VCALENDAR
