BEGIN:VCALENDAR
VERSION:2.0
PRODID:-//AskFRED//EN
CALSCALE:GREGORIAN
METHOD:PUBLISH
BEGIN:VEVENT
DTSTAMP:20260422T081757Z
UID:b0d9269b-a881-4b9b-9892-76354e6ff3fd
DTSTART;VALUE=DATE:20260719
DTEND;VALUE=DATE:20260719
DESCRIPTION:E & Under for all weapons! This event is sanctioned by USA Fenc
 ing's NJ Division and is open to fencers born in 2012 or before. Foil 9 am
 \, Epee 11 am\, Sabre 1 pm!
GEO:40.2547909;-74.2470405
LOCATION:56 Thoreau Dr\, Freehold\, NJ 07728 US
SUMMARY:Freehold Fencing - 3 Weapon E & Under!
BEGIN:VALARM
ACTION:DISPLAY
TRIGGER:-P1D
DESCRIPTION:Reminder
END:VALARM
END:VEVENT
END:VCALENDAR
