BEGIN:VCALENDAR
VERSION:2.0
PRODID:-//AskFRED//EN
CALSCALE:GREGORIAN
METHOD:PUBLISH
BEGIN:VEVENT
DTSTAMP:20260422T044500Z
UID:b0eb358b-853b-428f-8448-bdf8cf3727c3
DTSTART;VALUE=DATE:20260425
DTEND;VALUE=DATE:20260425
DESCRIPTION:Advanced Beginners\, Pre-Comp and New to COMP only\nAge Categor
 ies: Y10\, Y12\, Y14\nEvent Start Time: 2:00 PM\nEquipment Check Begins: 1
 2:30 PM
GEO:45.4795785;-122.7787414
LOCATION:5645 S.W. Arctic Dr.\, Beaverton\, OR 97005 USA
SUMMARY:PDX Spring Tournament - Y10\, Y12\, Y14
BEGIN:VALARM
ACTION:DISPLAY
TRIGGER:-P1D
DESCRIPTION:Reminder
END:VALARM
END:VEVENT
END:VCALENDAR
