BEGIN:VCALENDAR
VERSION:2.0
PRODID:-//AskFRED//EN
CALSCALE:GREGORIAN
METHOD:PUBLISH
BEGIN:VEVENT
DTSTAMP:20260422T064111Z
UID:219c4d52-0ac1-4950-b5f4-15e6eb526d9e
DTSTART;VALUE=DATE:20260825
DTEND;VALUE=DATE:20260825
GEO:40.7197068;-74.2705849
LOCATION:229 Hilton Ave\, Maplewood\, NJ 07040 USA
SUMMARY:NJFA - Div. 3 Mixed Sabre
BEGIN:VALARM
ACTION:DISPLAY
TRIGGER:-P1D
DESCRIPTION:Reminder
END:VALARM
END:VEVENT
END:VCALENDAR
