BEGIN:VCALENDAR
VERSION:2.0
PRODID:-//AskFRED//EN
CALSCALE:GREGORIAN
METHOD:PUBLISH
BEGIN:VEVENT
DTSTAMP:20260422T064231Z
UID:dadadd73-45f2-4a27-83cc-6ae7271584c9
DTSTART;VALUE=DATE:20261219
DTEND;VALUE=DATE:20261220
GEO:40.838811;-73.3229873
LOCATION:3032 Jericho Tpke\, East Northport\, NY 11731 USA
SUMMARY:H3 Candy Cane Challenge
BEGIN:VALARM
ACTION:DISPLAY
TRIGGER:-P1D
DESCRIPTION:Reminder
END:VALARM
END:VEVENT
END:VCALENDAR
