BEGIN:VCALENDAR
VERSION:2.0
PRODID:-//AskFRED//EN
CALSCALE:GREGORIAN
METHOD:PUBLISH
BEGIN:VEVENT
DTSTAMP:20260422T081901Z
UID:0247e4b6-1e66-4633-aee5-f42879ebfc27
DTSTART;VALUE=DATE:20260813
DTEND;VALUE=DATE:20260813
GEO:40.7197068;-74.2705849
LOCATION:229 Hilton Ave\, Maplewood\, NJ 07040 USA
SUMMARY:NJFA Youth Epee Tournament
BEGIN:VALARM
ACTION:DISPLAY
TRIGGER:-P1D
DESCRIPTION:Reminder
END:VALARM
END:VEVENT
END:VCALENDAR
