BEGIN:VCALENDAR
VERSION:2.0
PRODID:-//AskFRED//EN
CALSCALE:GREGORIAN
METHOD:PUBLISH
BEGIN:VEVENT
DTSTAMP:20260422T064245Z
UID:bd1c0eaa-9202-4594-acf1-8be57acc95ae
DTSTART;VALUE=DATE:20260912
DTEND;VALUE=DATE:20260913
DESCRIPTION:Welcome to the BCFA senior Provincial Championships\, open to a
 ll fencers with a BCFA competitive membership or other provincial or natio
 nal (eg USFA) membership. 
GEO:49.1958006;-123.0878181
LOCATION:2231 Vauxhall Pl\, Richmond\, BC V6V 1Z5 CA
SUMMARY:BCFA SENIOR PROVINCIAL CHAMPIONSHIPS
BEGIN:VALARM
ACTION:DISPLAY
TRIGGER:-P1D
DESCRIPTION:Reminder
END:VALARM
END:VEVENT
END:VCALENDAR
