BEGIN:VCALENDAR
VERSION:2.0
PRODID:-//AskFRED//EN
CALSCALE:GREGORIAN
METHOD:PUBLISH
BEGIN:VEVENT
DTSTAMP:20260422T082100Z
UID:d136b226-0ae6-4ca0-82ba-cadb740b815d
DTSTART;VALUE=DATE:20260621
DTEND;VALUE=DATE:20260621
GEO:40.3291319;-74.0791311
LOCATION:1 Sheila Dr\, Tinton Falls\, NJ 07724 US
SUMMARY:Atlantic Fencing Academy Vet Sabre
BEGIN:VALARM
ACTION:DISPLAY
TRIGGER:-P1D
DESCRIPTION:Reminder
END:VALARM
END:VEVENT
END:VCALENDAR
