BEGIN:VCALENDAR
VERSION:2.0
PRODID:-//AskFRED//EN
CALSCALE:GREGORIAN
METHOD:PUBLISH
BEGIN:VEVENT
DTSTAMP:20260422T064115Z
UID:4146e4e9-0d1a-4112-99a3-38ccf00f145d
DTSTART;VALUE=DATE:20260827
DTEND;VALUE=DATE:20260827
GEO:40.7197068;-74.2705849
LOCATION:229 Hilton Ave\, Maplewood\, NJ 07040 USA
SUMMARY:NJFA - Div. 3 Mixed Epee
BEGIN:VALARM
ACTION:DISPLAY
TRIGGER:-P1D
DESCRIPTION:Reminder
END:VALARM
END:VEVENT
END:VCALENDAR
