BEGIN:VCALENDAR
VERSION:2.0
PRODID:-//AskFRED//EN
CALSCALE:GREGORIAN
METHOD:PUBLISH
BEGIN:VEVENT
DTSTAMP:20260422T044437Z
UID:0019858e-fb5f-4942-b213-d26e55ebdf7c
DTSTART;VALUE=DATE:20260424
DTEND;VALUE=DATE:20260424
DESCRIPTION:Open to all Senior and Y12 Foil Fencers from any Club\, Divisio
 n\, or Region. Registration to be paid at the door.
GEO:45.6761821;-122.6575238
LOCATION:1321 NE 76th St #3c\, Vancouver\, WA 98665 US
SUMMARY:Orion Spring Star Series Foil Senior Open & Y12 #1
BEGIN:VALARM
ACTION:DISPLAY
TRIGGER:-P1D
DESCRIPTION:Reminder
END:VALARM
END:VEVENT
END:VCALENDAR
