BEGIN:VCALENDAR
VERSION:2.0
PRODID:-//AskFRED//EN
CALSCALE:GREGORIAN
METHOD:PUBLISH
BEGIN:VEVENT
DTSTAMP:20260422T082522Z
UID:60a2e541-ff60-48df-94c9-383550d5860f
DTSTART;VALUE=DATE:20260627
DTEND;VALUE=DATE:20260706
GEO:45.5283308;-122.6634712
LOCATION:777 Northeast Martin Luther King Junior Boulevard\, Portland\, Ore
 gon 97232 US
SUMMARY:Summer Nationals and July Challenge
BEGIN:VALARM
ACTION:DISPLAY
TRIGGER:-P1D
DESCRIPTION:Reminder
END:VALARM
END:VEVENT
END:VCALENDAR
